BEGIN:VCALENDAR
VERSION:2.0
PRODID:-//Työfysioterapeutit Ry - ECPv6.15.20//NONSGML v1.0//EN
CALSCALE:GREGORIAN
METHOD:PUBLISH
X-ORIGINAL-URL:https://tyofysioterapeutit.fi
X-WR-CALDESC:Tapahtumat Työfysioterapeutit Ry
REFRESH-INTERVAL;VALUE=DURATION:PT1H
X-Robots-Tag:noindex
X-PUBLISHED-TTL:PT1H
BEGIN:VTIMEZONE
TZID:Europe/Helsinki
BEGIN:DAYLIGHT
TZOFFSETFROM:+0200
TZOFFSETTO:+0300
TZNAME:EEST
DTSTART:20180325T010000
END:DAYLIGHT
BEGIN:STANDARD
TZOFFSETFROM:+0300
TZOFFSETTO:+0200
TZNAME:EET
DTSTART:20181028T010000
END:STANDARD
BEGIN:DAYLIGHT
TZOFFSETFROM:+0200
TZOFFSETTO:+0300
TZNAME:EEST
DTSTART:20190331T010000
END:DAYLIGHT
BEGIN:STANDARD
TZOFFSETFROM:+0300
TZOFFSETTO:+0200
TZNAME:EET
DTSTART:20191027T010000
END:STANDARD
BEGIN:DAYLIGHT
TZOFFSETFROM:+0200
TZOFFSETTO:+0300
TZNAME:EEST
DTSTART:20200329T010000
END:DAYLIGHT
BEGIN:STANDARD
TZOFFSETFROM:+0300
TZOFFSETTO:+0200
TZNAME:EET
DTSTART:20201025T010000
END:STANDARD
END:VTIMEZONE
BEGIN:VEVENT
DTSTART;TZID=Europe/Helsinki:20190902T080000
DTEND;TZID=Europe/Helsinki:20190902T170000
DTSTAMP:20260426T040145
CREATED:20190301T124102Z
LAST-MODIFIED:20191013T144541Z
UID:2743-1567411200-1567443600@tyofysioterapeutit.fi
SUMMARY:Työfysioterapeutin suunnattu työpaikkaselvitys
DESCRIPTION:Hakemasi sisältö vaatii jäsenkirjautumisen\nOle hyvä ja kirjaudu sisään oikeasta yläkulmasta.
URL:https://tyofysioterapeutit.fi/tapahtumakalenteri/tyofysioterapeutin-suunnattu-tyopaikkaselvitys/
LOCATION:Työterveyslaitos\, Topeliuksenkatu 41 b\, Helsinki \, 00250
CATEGORIES:Koulutus
ATTACH;FMTTYPE=image/jpeg:https://tyofysioterapeutit.fi/wp-content/uploads/2019/03/työterveyslaitos.jpg
END:VEVENT
END:VCALENDAR