BEGIN:VCALENDAR
VERSION:2.0
PRODID:-//Työfysioterapeutit Ry - ECPv6.15.20//NONSGML v1.0//EN
CALSCALE:GREGORIAN
METHOD:PUBLISH
X-WR-CALNAME:Työfysioterapeutit Ry
X-ORIGINAL-URL:https://tyofysioterapeutit.fi
X-WR-CALDESC:Tapahtumat Työfysioterapeutit Ry
REFRESH-INTERVAL;VALUE=DURATION:PT1H
X-Robots-Tag:noindex
X-PUBLISHED-TTL:PT1H
BEGIN:VTIMEZONE
TZID:Europe/Helsinki
BEGIN:DAYLIGHT
TZOFFSETFROM:+0200
TZOFFSETTO:+0300
TZNAME:EEST
DTSTART:20170326T010000
END:DAYLIGHT
BEGIN:STANDARD
TZOFFSETFROM:+0300
TZOFFSETTO:+0200
TZNAME:EET
DTSTART:20171029T010000
END:STANDARD
BEGIN:DAYLIGHT
TZOFFSETFROM:+0200
TZOFFSETTO:+0300
TZNAME:EEST
DTSTART:20180325T010000
END:DAYLIGHT
BEGIN:STANDARD
TZOFFSETFROM:+0300
TZOFFSETTO:+0200
TZNAME:EET
DTSTART:20181028T010000
END:STANDARD
BEGIN:DAYLIGHT
TZOFFSETFROM:+0200
TZOFFSETTO:+0300
TZNAME:EEST
DTSTART:20190331T010000
END:DAYLIGHT
BEGIN:STANDARD
TZOFFSETFROM:+0300
TZOFFSETTO:+0200
TZNAME:EET
DTSTART:20191027T010000
END:STANDARD
END:VTIMEZONE
BEGIN:VEVENT
DTSTART;TZID=Europe/Helsinki:20180503T080000
DTEND;TZID=Europe/Helsinki:20180503T160000
DTSTAMP:20260426T043155
CREATED:20180316T134343Z
LAST-MODIFIED:20180319T074703Z
UID:2593-1525334400-1525363200@tyofysioterapeutit.fi
SUMMARY:Kevätopintopäivä 3.5.2018
DESCRIPTION:Hakemasi sisältö vaatii jäsenkirjautumisen\nOle hyvä ja kirjaudu sisään oikeasta yläkulmasta.
URL:https://tyofysioterapeutit.fi/tapahtumakalenteri/valaistusta-valoon-akustiikkaan-nakemiseen-aanenkayttoon/
LOCATION:EFG Toimistokalusteet Oy\, Hämeentie 135A\, Helsinki\, 00560\, Suomi
CATEGORIES:Koulutus
ATTACH;FMTTYPE=image/jpeg:https://tyofysioterapeutit.fi/wp-content/uploads/2018/03/light-bulb-3104355_1920.jpg
END:VEVENT
END:VCALENDAR