BEGIN:VCALENDAR
VERSION:2.0
PRODID:-//Työfysioterapeutit Ry - ECPv6.15.20//NONSGML v1.0//EN
CALSCALE:GREGORIAN
METHOD:PUBLISH
X-WR-CALNAME:Työfysioterapeutit Ry
X-ORIGINAL-URL:https://tyofysioterapeutit.fi
X-WR-CALDESC:Tapahtumat Työfysioterapeutit Ry
REFRESH-INTERVAL;VALUE=DURATION:PT1H
X-Robots-Tag:noindex
X-PUBLISHED-TTL:PT1H
BEGIN:VTIMEZONE
TZID:Europe/Helsinki
BEGIN:DAYLIGHT
TZOFFSETFROM:+0200
TZOFFSETTO:+0300
TZNAME:EEST
DTSTART:20180325T010000
END:DAYLIGHT
BEGIN:STANDARD
TZOFFSETFROM:+0300
TZOFFSETTO:+0200
TZNAME:EET
DTSTART:20181028T010000
END:STANDARD
BEGIN:DAYLIGHT
TZOFFSETFROM:+0200
TZOFFSETTO:+0300
TZNAME:EEST
DTSTART:20190331T010000
END:DAYLIGHT
BEGIN:STANDARD
TZOFFSETFROM:+0300
TZOFFSETTO:+0200
TZNAME:EET
DTSTART:20191027T010000
END:STANDARD
BEGIN:DAYLIGHT
TZOFFSETFROM:+0200
TZOFFSETTO:+0300
TZNAME:EEST
DTSTART:20200329T010000
END:DAYLIGHT
BEGIN:STANDARD
TZOFFSETFROM:+0300
TZOFFSETTO:+0200
TZNAME:EET
DTSTART:20201025T010000
END:STANDARD
END:VTIMEZONE
BEGIN:VEVENT
DTSTART;TZID=Europe/Helsinki:20190321T080000
DTEND;TZID=Europe/Helsinki:20190322T150000
DTSTAMP:20260424T012958
CREATED:20181210T075943Z
LAST-MODIFIED:20190117T101332Z
UID:2699-1553155200-1553266800@tyofysioterapeutit.fi
SUMMARY:Työelämä muuttuu\, pysytkö mukana?
DESCRIPTION:  \nTyöterveys- ja työturvallisuusalan koulutuspäivät  \nKatso ohjelma ja ilmoittaudu! \nttp2019 ohjelma \n 
URL:https://tyofysioterapeutit.fi/tapahtumakalenteri/tyoelama-muuttuu-pysytko-mukana/
LOCATION:Scandic Koskipuisto\, Tampere\, Suomi
CATEGORIES:Koulutus
ATTACH;FMTTYPE=image/jpeg:https://tyofysioterapeutit.fi/wp-content/uploads/2018/12/ttp.jpg
ORGANIZER;CN="Ty%C3%B6suojelup%C3%A4%C3%A4llik%C3%B6t ry%2C Suomen Ty%C3%B6terveyshoitajaliitto ry%2C Suomen Ty%C3%B6terveysl%C3%A4%C3%A4k%C3%A4riyhdistys ry%2C Suomen Ty%C3%B6hygienian Seura ry%2C Ty%C3%B6fysioterapeutit ry":MAILTO:toimisto@finnsafe.net
END:VEVENT
END:VCALENDAR