BEGIN:VCALENDAR
VERSION:2.0
PRODID:-//Työfysioterapeutit Ry - ECPv6.15.20//NONSGML v1.0//EN
CALSCALE:GREGORIAN
METHOD:PUBLISH
X-ORIGINAL-URL:https://tyofysioterapeutit.fi
X-WR-CALDESC:Tapahtumat Työfysioterapeutit Ry
REFRESH-INTERVAL;VALUE=DURATION:PT1H
X-Robots-Tag:noindex
X-PUBLISHED-TTL:PT1H
BEGIN:VTIMEZONE
TZID:Europe/Helsinki
BEGIN:DAYLIGHT
TZOFFSETFROM:+0200
TZOFFSETTO:+0300
TZNAME:EEST
DTSTART:20160327T010000
END:DAYLIGHT
BEGIN:STANDARD
TZOFFSETFROM:+0300
TZOFFSETTO:+0200
TZNAME:EET
DTSTART:20161030T010000
END:STANDARD
BEGIN:DAYLIGHT
TZOFFSETFROM:+0200
TZOFFSETTO:+0300
TZNAME:EEST
DTSTART:20170326T010000
END:DAYLIGHT
BEGIN:STANDARD
TZOFFSETFROM:+0300
TZOFFSETTO:+0200
TZNAME:EET
DTSTART:20171029T010000
END:STANDARD
BEGIN:DAYLIGHT
TZOFFSETFROM:+0200
TZOFFSETTO:+0300
TZNAME:EEST
DTSTART:20180325T010000
END:DAYLIGHT
BEGIN:STANDARD
TZOFFSETFROM:+0300
TZOFFSETTO:+0200
TZNAME:EET
DTSTART:20181028T010000
END:STANDARD
END:VTIMEZONE
BEGIN:VEVENT
DTSTART;TZID=Europe/Helsinki:20171109T080000
DTEND;TZID=Europe/Helsinki:20171110T160000
DTSTAMP:20260426T025024
CREATED:20170827T130511Z
LAST-MODIFIED:20170915T061934Z
UID:2442-1510214400-1510329600@tyofysioterapeutit.fi
SUMMARY:Syysopintopäivät 9.-10.11.2017 Ergonomia tänään ja huomenna
DESCRIPTION:Syksyn opintopäivät järjestetään 9.-10.11.2017 Helsingissä teemalla ”Ergonomia tänään ja huomenna” \nAiheina mm. Ergonomia tänään -Nykytilanne ja kuinka tähän on tultu; Monitilatoimisto työympäristönä; Näkökulmia  rakennustyön fyysiseen  kuormitukseen; Työterveyshuollon integroituminen SOTEen .. ja paljon muuta ajankohtaista ja mielenkiintoista!  \nTutustu ohjelmaan ja ilmoittaudu alla olevasta linkistä! \nSyyspintopäivien ohjelma \nIlmoittaudu 23.10.2017 mennessä!
URL:https://tyofysioterapeutit.fi/tapahtumakalenteri/syysopintopaivat-ergonomia-tanaan-huomenna/
LOCATION:Ravintola La Mer/ Hakaniemisali\, John Stenbergin ranta 6\, Helsinki\, 00530
CATEGORIES:Koulutus
ATTACH;FMTTYPE=image/jpeg:https://tyofysioterapeutit.fi/wp-content/uploads/2017/08/future-2372183_1920.jpg
ORGANIZER;CN="Ty%C3%B6fysioterapeutit ry":MAILTO:sihteeri@tyofysioterapeutit.fi
END:VEVENT
END:VCALENDAR