BEGIN:VCALENDAR
VERSION:2.0
PRODID:-//Työfysioterapeutit Ry - ECPv6.15.20//NONSGML v1.0//EN
CALSCALE:GREGORIAN
METHOD:PUBLISH
X-ORIGINAL-URL:https://tyofysioterapeutit.fi
X-WR-CALDESC:Tapahtumat Työfysioterapeutit Ry
REFRESH-INTERVAL;VALUE=DURATION:PT1H
X-Robots-Tag:noindex
X-PUBLISHED-TTL:PT1H
BEGIN:VTIMEZONE
TZID:Europe/Helsinki
BEGIN:DAYLIGHT
TZOFFSETFROM:+0200
TZOFFSETTO:+0300
TZNAME:EEST
DTSTART:20210328T010000
END:DAYLIGHT
BEGIN:STANDARD
TZOFFSETFROM:+0300
TZOFFSETTO:+0200
TZNAME:EET
DTSTART:20211031T010000
END:STANDARD
BEGIN:DAYLIGHT
TZOFFSETFROM:+0200
TZOFFSETTO:+0300
TZNAME:EEST
DTSTART:20220327T010000
END:DAYLIGHT
BEGIN:STANDARD
TZOFFSETFROM:+0300
TZOFFSETTO:+0200
TZNAME:EET
DTSTART:20221030T010000
END:STANDARD
BEGIN:DAYLIGHT
TZOFFSETFROM:+0200
TZOFFSETTO:+0300
TZNAME:EEST
DTSTART:20230326T010000
END:DAYLIGHT
BEGIN:STANDARD
TZOFFSETFROM:+0300
TZOFFSETTO:+0200
TZNAME:EET
DTSTART:20231029T010000
END:STANDARD
END:VTIMEZONE
BEGIN:VEVENT
DTSTART;TZID=Europe/Helsinki:20220524T123000
DTEND;TZID=Europe/Helsinki:20220524T163000
DTSTAMP:20260423T202621
CREATED:20220504T032847Z
LAST-MODIFIED:20220504T032847Z
UID:3843-1653395400-1653409800@tyofysioterapeutit.fi
SUMMARY:Maksuton webinaari ti 24.5.22: Ylihoitoa\, alihoitoa vai ohihoitoa tuki- ja liikuntaelinvaivojen arviossa ja hoidossa?
DESCRIPTION:TULE ry järjestää terveydenhuollon ammattilaisille suunnatun webinaarin tiistaina 24.5.2022 klo 12.30-16.30 aiheena Ylihoitoa\, alihoitoa vai ohihoitoa tuki- ja liikuntaelinvaivojen arviossa ja hoidossa?\n\n\nTuki- ja liikuntaelinvaivat ovat tavallisimpia syitä terveydenhuoltoon hakeutumiseen. Diagnostiikassa keskeistä on kokonaisvaltainen haastattelu ja kliininen tutkimus. Tällä hetkellä valitettavasti tuki- ja liikuntaelinvaivojen arviossa on ylidiagnostiikkaa ja osaa potilaista ylihoidetaan. Toisaalta samalla osa potilaista ei saa riittävästi tukea. Tämän session tarkoituksena on kriittisesti tarkastella ja herättää keskustelua\, mikä on olennaista tuki- ja liikuntaelinvaivojen tutkimisessa ja hoidossa. Tilaisuuden puheenjohtajana toimii professori\, kuntoutusjohtaja Jaro Karppinen\, Oulun yliopisto ja Eksote. \nPuhujina toiminnanjohtaja Marja Kinnunen Tule ry\, TtT\, professori\, kuntoutusjohtaja Jaro Karppinen Oulun yliopisto ja Eksote\,  ft Riikka Holopainen Jyväskylän yliopisto ja Movedoc Oy\, OMT-ft Mikko Lausmaa Oulun yliopisto ja Loisto Terveys Oy\, väitöskirjatutkija\, työfysioterapeutti Maija Paukkunen Linköpingin yliopisto ja Oulun yliopisto\, LL\, yleislääketieteen el Anna Sofia Simula Oulun yliopisto ja Essote ja dos.\, työlääketieteen el Kari-Pekka Martimo Työeläkevakuutusyhtiö Ilmarinen. \nKohderyhmä: Tule-potilaita kohtaavat terveydenhuollon ammattilaiset: lääkärit\, fysioterapeutit\, terveydenhoitajat\, sairaanhoitajat\, kiropraktikot\, naprapaatit\, osteopaatit \nErikoistuminen: Hyväksytty 3 tuntia\, alat: yleislääketiede\, fysiatria\, liikuntalääketiede\, työterveyshuolto \nHinta: Maksuton \nWebinaarin ohjelma ja ilmoittautuminen 17.5.22 mennessä: https://bit.ly/37EtwIH \n\nTervetuloa mukaan! \nJaana Hyvönen\, suunnittelija \nTuki- ja liikuntaelinliitto Tule ry
URL:https://tyofysioterapeutit.fi/tapahtumakalenteri/maksuton-webinaari-ti-24-5-22-ylihoitoa-alihoitoa-ohihoitoa-tuki-liikuntaelinvaivojen-arviossa-hoidossa/
CATEGORIES:Koulutus
END:VEVENT
END:VCALENDAR