BEGIN:VCALENDAR
VERSION:2.0
PRODID:-//Työfysioterapeutit Ry - ECPv6.15.20//NONSGML v1.0//EN
CALSCALE:GREGORIAN
METHOD:PUBLISH
X-WR-CALNAME:Työfysioterapeutit Ry
X-ORIGINAL-URL:https://tyofysioterapeutit.fi
X-WR-CALDESC:Tapahtumat Työfysioterapeutit Ry
REFRESH-INTERVAL;VALUE=DURATION:PT1H
X-Robots-Tag:noindex
X-PUBLISHED-TTL:PT1H
BEGIN:VTIMEZONE
TZID:Europe/Helsinki
BEGIN:DAYLIGHT
TZOFFSETFROM:+0200
TZOFFSETTO:+0300
TZNAME:EEST
DTSTART:20180325T010000
END:DAYLIGHT
BEGIN:STANDARD
TZOFFSETFROM:+0300
TZOFFSETTO:+0200
TZNAME:EET
DTSTART:20181028T010000
END:STANDARD
BEGIN:DAYLIGHT
TZOFFSETFROM:+0200
TZOFFSETTO:+0300
TZNAME:EEST
DTSTART:20190331T010000
END:DAYLIGHT
BEGIN:STANDARD
TZOFFSETFROM:+0300
TZOFFSETTO:+0200
TZNAME:EET
DTSTART:20191027T010000
END:STANDARD
BEGIN:DAYLIGHT
TZOFFSETFROM:+0200
TZOFFSETTO:+0300
TZNAME:EEST
DTSTART:20200329T010000
END:DAYLIGHT
BEGIN:STANDARD
TZOFFSETFROM:+0300
TZOFFSETTO:+0200
TZNAME:EET
DTSTART:20201025T010000
END:STANDARD
END:VTIMEZONE
BEGIN:VEVENT
DTSTART;TZID=Europe/Helsinki:20190404T000000
DTEND;TZID=Europe/Helsinki:20190425T000000
DTSTAMP:20260425T173912
CREATED:20190117T093934Z
LAST-MODIFIED:20190117T093934Z
UID:2708-1554336000-1556150400@tyofysioterapeutit.fi
SUMMARY:UKK-instituutin koulutustarjonta keväällä 2019
DESCRIPTION:Olkapäät ahtaalla – toimintahäiriöiden kuntoutus -lähikoulutuspäivä 9.4.\nTyö ja vapaa-ajan harrasteet\, myös liikunta\, voivat kuormittaa olkanivelen rakenteita haitallisesti. Koulutuksessa perehdyt progressiivisesti etenevään toiminnalliseen harjoitteluun kuntoutumisen kulmakivenä. Hinta 200 €. \nLihaskuntoharjoittelu ja hyvä liikehallinta tukevat selän terveyttä -lähikoulutuspäivä 10.4.\nPienellä päivittäisellä panostuksella päästään hyvään tulokseen\, mutta miten? Koulutuksessa perehdyt toiminnallisen lihaskuntoharjoittelun periaatteisiin ja tavoitteisiin sekä liikehallinnan merkitykseen osana arjen toimintoja. Päivität osaamistasi asiakkaiden ohjaustyössä. Hinta 180 €. \nKoulutustarjous! Osallistumalla molempiin toisiaan täydentäviin koulutuksiin 9.-10.4.\, saat kokonaishinnasta 80 € alennuksen. \nKuntotestaus polkupyöräergometrillä -monimuotokoulutus alkaen verkossa 4.4.\, lähikoulutuspäivä 25.4.\nKoulutuksessa saat fysiologiset perustiedot hengitys- ja verenkiertoelimistön suorituskyvyn arviointiin epäsuoralla polkupyöräergometritestillä sekä perehdyt käytännön harjoituksilla testin tekemiseen ja tulosten tulkintaa. Järjestäjä: Tampereen Urheilulääkäriasema. \n  \nKoulutusten lisätiedot ja ilmoittautuminen: http://www.ukkinstituutti.fi/koulutustapahtumat\ns-posti: koulutus@ukkinstituutti.fi\, puh. 050 4062 069
URL:https://tyofysioterapeutit.fi/tapahtumakalenteri/ukk-instituutin-koulutustarjonta-kevaalla-2019/
CATEGORIES:Koulutus
ATTACH;FMTTYPE=image/jpeg:https://tyofysioterapeutit.fi/wp-content/uploads/2019/01/Capture-1.jpg
END:VEVENT
END:VCALENDAR