BEGIN:VCALENDAR
VERSION:2.0
PRODID:-//Työfysioterapeutit Ry - ECPv6.15.20//NONSGML v1.0//EN
CALSCALE:GREGORIAN
METHOD:PUBLISH
X-ORIGINAL-URL:https://tyofysioterapeutit.fi
X-WR-CALDESC:Tapahtumat Työfysioterapeutit Ry
REFRESH-INTERVAL;VALUE=DURATION:PT1H
X-Robots-Tag:noindex
X-PUBLISHED-TTL:PT1H
BEGIN:VTIMEZONE
TZID:Europe/Helsinki
BEGIN:DAYLIGHT
TZOFFSETFROM:+0200
TZOFFSETTO:+0300
TZNAME:EEST
DTSTART:20210328T010000
END:DAYLIGHT
BEGIN:STANDARD
TZOFFSETFROM:+0300
TZOFFSETTO:+0200
TZNAME:EET
DTSTART:20211031T010000
END:STANDARD
BEGIN:DAYLIGHT
TZOFFSETFROM:+0200
TZOFFSETTO:+0300
TZNAME:EEST
DTSTART:20220327T010000
END:DAYLIGHT
BEGIN:STANDARD
TZOFFSETFROM:+0300
TZOFFSETTO:+0200
TZNAME:EET
DTSTART:20221030T010000
END:STANDARD
BEGIN:DAYLIGHT
TZOFFSETFROM:+0200
TZOFFSETTO:+0300
TZNAME:EEST
DTSTART:20230326T010000
END:DAYLIGHT
BEGIN:STANDARD
TZOFFSETFROM:+0300
TZOFFSETTO:+0200
TZNAME:EET
DTSTART:20231029T010000
END:STANDARD
END:VTIMEZONE
BEGIN:VEVENT
DTSTART;TZID=Europe/Helsinki:20220315T123000
DTEND;TZID=Europe/Helsinki:20220315T153000
DTSTAMP:20260423T190806
CREATED:20220223T165908Z
LAST-MODIFIED:20220223T165908Z
UID:3790-1647347400-1647358200@tyofysioterapeutit.fi
SUMMARY:Työhön kytkeytyvä kuntoutus – Työterveysyhteistyön tukena moniammatillinen toiminta
DESCRIPTION:Tervetuloa seuraamaan paneelikeskustelua\, jonka aiheena on Työhön kytkeytyvä kuntoutus – Työterveysyhteistyön tukena moniammatillinen toiminta. \n\n\nAjankohta\n\n15.03.2022 12:30 – 15:30 \n\n\nIlmottautuminen alkaa ja päättyy\n\n10.02.2022 08:00 – 10.03.2022 23:59 \n\n\nTapahtuman tyyppi\n\nWebinaari \n\n\nHinta\nIlmainen\n\n\n\nTyöhön kytkeytyvä kuntoutus-Paneelikeskustelu
URL:https://tyofysioterapeutit.fi/tapahtumakalenteri/tyohon-kytkeytyva-kuntoutus-tyoterveysyhteistyon-tukena-moniammatillinen-toiminta/
CATEGORIES:Tapahtuma
ATTACH;FMTTYPE=image/png:https://tyofysioterapeutit.fi/wp-content/uploads/2022/02/Tyohon-kytkeytyva-kuntoutus-Paneelikeskustelu-Twitter-1.png
END:VEVENT
END:VCALENDAR