BEGIN:VCALENDAR
VERSION:2.0
PRODID:-//Työfysioterapeutit Ry - ECPv6.15.20//NONSGML v1.0//EN
CALSCALE:GREGORIAN
METHOD:PUBLISH
X-ORIGINAL-URL:https://tyofysioterapeutit.fi
X-WR-CALDESC:Tapahtumat Työfysioterapeutit Ry
REFRESH-INTERVAL;VALUE=DURATION:PT1H
X-Robots-Tag:noindex
X-PUBLISHED-TTL:PT1H
BEGIN:VTIMEZONE
TZID:Europe/Helsinki
BEGIN:DAYLIGHT
TZOFFSETFROM:+0200
TZOFFSETTO:+0300
TZNAME:EEST
DTSTART:20170326T010000
END:DAYLIGHT
BEGIN:STANDARD
TZOFFSETFROM:+0300
TZOFFSETTO:+0200
TZNAME:EET
DTSTART:20171029T010000
END:STANDARD
BEGIN:DAYLIGHT
TZOFFSETFROM:+0200
TZOFFSETTO:+0300
TZNAME:EEST
DTSTART:20180325T010000
END:DAYLIGHT
BEGIN:STANDARD
TZOFFSETFROM:+0300
TZOFFSETTO:+0200
TZNAME:EET
DTSTART:20181028T010000
END:STANDARD
BEGIN:DAYLIGHT
TZOFFSETFROM:+0200
TZOFFSETTO:+0300
TZNAME:EEST
DTSTART:20190331T010000
END:DAYLIGHT
BEGIN:STANDARD
TZOFFSETFROM:+0300
TZOFFSETTO:+0200
TZNAME:EET
DTSTART:20191027T010000
END:STANDARD
END:VTIMEZONE
BEGIN:VEVENT
DTSTART;TZID=Europe/Helsinki:20180412T080000
DTEND;TZID=Europe/Helsinki:20180524T080000
DTSTAMP:20260425T012707
CREATED:20180312T183356Z
LAST-MODIFIED:20180312T185116Z
UID:2587-1523520000-1527148800@tyofysioterapeutit.fi
SUMMARY:Ortonin seminaarit keväällä 2018
DESCRIPTION:1. CRPS – Diagnostiikka ja hoito\, 12.4.2018\nIlmoittautuminen 3.4.2018 mennessä. Ohjelma löytyy sivuiltamme ja ilmoittautua voit\noheisen linkin kautta: https://www.lyyti.in/CRPS__Diagnostiikka_ja_hoito_7001\nHinta: 270 € (217\,74 € + alv% =270\,00 €) (sisältää luentomateriaalin\, lounaan ja kahvit). \n2. Krooninen selkäkipu – Ennaltaehkäisy ja hoito\, 17.5.2018\nIlmoittautuminen 8.5.2018 mennessä. Ohjelma löytyy sivuiltamme ja ilmoittautua voit\noheisen linkin kautta: https://www.lyyti.in/Krooninen_selkakipupotilas_2968\nHinta: 270 € (217\,74 € + alv% =270\,00 €) (sisältää luentomateriaalin\, lounaan ja kahvin). \n3. Voidaanko liikuntavammoja ennaltaehkäistä? 24.5.2018\nIlmoittautuminen 15.5.2018 mennessä. Ohjelma löytyy sivuiltamme ja ilmoittautua voit\noheisen linkin kautta:\nhttps://www.lyyti.in/Voidaanko_liikuntavammoja_ennaltaehkaista_5051\nHinta: 270 € (217\,74 € + alv% =270\,00 €) (sisältää luentomateriaalin\, lounaan ja kahvin). \nTervetuloa seminaareihimme!\nKoulutusterveisin\nLeena Ristolainen\nTutkimus- ja koulutuspäällikkö\nOrton Oy\nTenholantie 10\n00280 Helsinki\n040 631 2255\nleena.ristolainen@orton.fi
URL:https://tyofysioterapeutit.fi/tapahtumakalenteri/ortonin-seminaarit-kevaalla-2018/
LOCATION:Invalidisäätiö Orton\, Tenholantie 10 \, Helsinki\, 00280 \, Suomi
CATEGORIES:Koulutus
END:VEVENT
END:VCALENDAR