BEGIN:VCALENDAR
VERSION:2.0
PRODID:-//Työfysioterapeutit Ry - ECPv6.15.20//NONSGML v1.0//EN
CALSCALE:GREGORIAN
METHOD:PUBLISH
X-ORIGINAL-URL:https://tyofysioterapeutit.fi
X-WR-CALDESC:Tapahtumat Työfysioterapeutit Ry
REFRESH-INTERVAL;VALUE=DURATION:PT1H
X-Robots-Tag:noindex
X-PUBLISHED-TTL:PT1H
BEGIN:VTIMEZONE
TZID:Europe/Helsinki
BEGIN:DAYLIGHT
TZOFFSETFROM:+0200
TZOFFSETTO:+0300
TZNAME:EEST
DTSTART:20190331T010000
END:DAYLIGHT
BEGIN:STANDARD
TZOFFSETFROM:+0300
TZOFFSETTO:+0200
TZNAME:EET
DTSTART:20191027T010000
END:STANDARD
BEGIN:DAYLIGHT
TZOFFSETFROM:+0200
TZOFFSETTO:+0300
TZNAME:EEST
DTSTART:20200329T010000
END:DAYLIGHT
BEGIN:STANDARD
TZOFFSETFROM:+0300
TZOFFSETTO:+0200
TZNAME:EET
DTSTART:20201025T010000
END:STANDARD
BEGIN:DAYLIGHT
TZOFFSETFROM:+0200
TZOFFSETTO:+0300
TZNAME:EEST
DTSTART:20210328T010000
END:DAYLIGHT
BEGIN:STANDARD
TZOFFSETFROM:+0300
TZOFFSETTO:+0200
TZNAME:EET
DTSTART:20211031T010000
END:STANDARD
END:VTIMEZONE
BEGIN:VEVENT
DTSTART;TZID=Europe/Helsinki:20200402T080000
DTEND;TZID=Europe/Helsinki:20200402T080000
DTSTAMP:20260425T065754
CREATED:20200210T191309Z
LAST-MODIFIED:20200210T191349Z
UID:3164-1585814400-1585814400@tyofysioterapeutit.fi
SUMMARY:Täydennyskoulutus: Asiantuntijafysioterapeutin opinnot
DESCRIPTION:Täydennyskoulutus\nAsiantuntijafysioterapeutin opinnot \nJakso II: Alaselkä- ja alaraajapotilaiden suoravastaanottotoiminnan toteuttaminen\, 10 opintopistettä. \nSuomen perusterveydenhuollon ja työterveyshuollon asiakkaista suurin osa on tuki- ja liikuntaelimistön ongelmia. Suoravastaanottotoiminnan avulla heidät voidaan ohjata suoraan fysioterapeutin vastaanotolle ilman lääkärikontaktia. \nAsiantuntijafysiotetapeutin opinnot\, jakso II mahdollistaa suoravastaanottotoiminnan alaselkä- ja alaraajapotilaiden\nkanssa. Opinnot soveltuvat niin julkisella (terveyskeskus ja työterveyshuolto) kuin yksityissektorillakin työskenteleville fysioterapeuteille. Koulutus on jatkoa jaksolle I\, mutta opinnot on mahdollista aloittaa myös suoraan tästä jaksosta. \nVuoden 2020 alusta työterveyshuollossa työskentelevän fysioterapeutin vastaanotolle voi tulla asiakas suoraan ilman lääkärin tai hoitajan ohjausta. Työfysioterapeutin tulee suorittaa lisäkoulutus. \nLue lisää: esite-asiantuntijafysioterapeutin-opinnot-jakso2 (1) \n 
URL:https://tyofysioterapeutit.fi/tapahtumakalenteri/taydennyskoulutus-asiantuntija-fysioterapeutin-opinnot/
LOCATION:Tampereen ammattikorkeakoulu\, TAMK\, Kuntokatu 3\, \, Tampere\, 33520
CATEGORIES:Koulutus
ATTACH;FMTTYPE=image/jpeg:https://tyofysioterapeutit.fi/wp-content/uploads/2020/02/Sprint.jpg
END:VEVENT
END:VCALENDAR