BEGIN:VCALENDAR
VERSION:2.0
PRODID:-//Työfysioterapeutit Ry - ECPv6.15.20//NONSGML v1.0//EN
CALSCALE:GREGORIAN
METHOD:PUBLISH
X-ORIGINAL-URL:https://tyofysioterapeutit.fi
X-WR-CALDESC:Tapahtumat Työfysioterapeutit Ry
REFRESH-INTERVAL;VALUE=DURATION:PT1H
X-Robots-Tag:noindex
X-PUBLISHED-TTL:PT1H
BEGIN:VTIMEZONE
TZID:Europe/Helsinki
BEGIN:DAYLIGHT
TZOFFSETFROM:+0200
TZOFFSETTO:+0300
TZNAME:EEST
DTSTART:20180325T010000
END:DAYLIGHT
BEGIN:STANDARD
TZOFFSETFROM:+0300
TZOFFSETTO:+0200
TZNAME:EET
DTSTART:20181028T010000
END:STANDARD
BEGIN:DAYLIGHT
TZOFFSETFROM:+0200
TZOFFSETTO:+0300
TZNAME:EEST
DTSTART:20190331T010000
END:DAYLIGHT
BEGIN:STANDARD
TZOFFSETFROM:+0300
TZOFFSETTO:+0200
TZNAME:EET
DTSTART:20191027T010000
END:STANDARD
BEGIN:DAYLIGHT
TZOFFSETFROM:+0200
TZOFFSETTO:+0300
TZNAME:EEST
DTSTART:20200329T010000
END:DAYLIGHT
BEGIN:STANDARD
TZOFFSETFROM:+0300
TZOFFSETTO:+0200
TZNAME:EET
DTSTART:20201025T010000
END:STANDARD
END:VTIMEZONE
BEGIN:VEVENT
DTSTART;TZID=Europe/Helsinki:20190509T080000
DTEND;TZID=Europe/Helsinki:20190509T170000
DTSTAMP:20260425T231910
CREATED:20190205T114729Z
LAST-MODIFIED:20190320T061858Z
UID:2735-1557388800-1557421200@tyofysioterapeutit.fi
SUMMARY:Työfysioterapeuttien Kevätopintopäivä Tampereella
DESCRIPTION:9.5.2019\nKevätopintopäivä 2019\nKevätkokouskutsu 2019\nKäsi – päivää! \n  \nTervetuloa! \n  \n 
URL:https://tyofysioterapeutit.fi/tapahtumakalenteri/tyofysioterapeuttien-kevatopintopaiva-tampereella/
LOCATION:Technopolis\, Kalevantie 2\, Tampere\, 33100\, Suomi
CATEGORIES:Koulutus
ATTACH;FMTTYPE=image/jpeg:https://tyofysioterapeutit.fi/wp-content/uploads/2019/02/michelangelo-71282_960_720.jpg
END:VEVENT
BEGIN:VEVENT
DTSTART;VALUE=DATE:20190510
DTEND;VALUE=DATE:20190514
DTSTAMP:20260425T231910
CREATED:20190311T180232Z
LAST-MODIFIED:20190311T180232Z
UID:2799-1557446400-1557791999@tyofysioterapeutit.fi
SUMMARY:World Confederation for Physical Therapy Congress 2019
DESCRIPTION:Welcome\nTo the global physical therapy and physiotherapy community.\nIt’s hard to believe that we are already thinking about the WCPT Congress 2019 as we still bask in the glow of Congress 2017 in Cape Town. \nAnd yet we are. The WCPT Congress 2019\, taking place 10th – 13th May in Geneva\, Switzerland\, once again brings the global community together. It is the second event in WCPT’s twice-yearly congress cycle\, offering an unparalleled opportunity to collaborate with healthcare and humanitarian organisations. \nAfter unforgettable congresses in Singapore and Cape Town\, physical therapists from all over the world have generated an unstoppable momentum\, a sense of professional unity\, and cross-cultural leadership. It is where the world of physical therapy meets\, renewing old friendships while nurturing the future of the profession. \nAs we have said on many occasions\, ‘we meet\, we connect\, we share\, we talk\, we laugh\, we dine\, we create lasting friendships – and because of that\, we are better.’ \nA WCPT member organisation since 1963\, physioswiss is getting ready to welcome the world to Geneva and showcase everything the city has to offer. The Congress promises to continue to be a transformative professional experience. \nThe Congress Programme Committee\, chaired by Professor Charlotte Häger\, is developing a cutting-edge programme with a variety of session formats. They will ensure that the congress is relevant to every physical therapist\, whether you are a clinician\, a manager\, a researcher\, an educator\, or professional organisation staff and volunteers. Many physical therapists are serial attendees. We welcome you if you are at the start\, in the middle or coming to the close of your professional journey. \nThese days\, it can seem as if the world\, and perhaps even our profession\, is becoming more fragmented. WCPT aims to create a global community in which every physical therapist feels connected and can exceed even their own expectations. By extending our knowledge and connecting with one another we advance practice for the benefit of populations and the individuals and communities we serve. \nWe look forward to welcoming everyone to Geneva. \nEmma Stokes\nWCPT President \nRoland Paillex\nPresident\, physioswiss
URL:https://tyofysioterapeutit.fi/tapahtumakalenteri/world-confederation-for-physical-therapy-congress-2019/
CATEGORIES:Tapahtuma
ATTACH;FMTTYPE=image/jpeg:https://tyofysioterapeutit.fi/wp-content/uploads/2019/03/wcpt.jpg
END:VEVENT
END:VCALENDAR