BEGIN:VCALENDAR
VERSION:2.0
PRODID:-//Työfysioterapeutit Ry - ECPv6.15.20//NONSGML v1.0//EN
CALSCALE:GREGORIAN
METHOD:PUBLISH
X-ORIGINAL-URL:https://tyofysioterapeutit.fi
X-WR-CALDESC:Tapahtumat Työfysioterapeutit Ry
REFRESH-INTERVAL;VALUE=DURATION:PT1H
X-Robots-Tag:noindex
X-PUBLISHED-TTL:PT1H
BEGIN:VTIMEZONE
TZID:Europe/Helsinki
BEGIN:DAYLIGHT
TZOFFSETFROM:+0200
TZOFFSETTO:+0300
TZNAME:EEST
DTSTART:20200329T010000
END:DAYLIGHT
BEGIN:STANDARD
TZOFFSETFROM:+0300
TZOFFSETTO:+0200
TZNAME:EET
DTSTART:20201025T010000
END:STANDARD
BEGIN:DAYLIGHT
TZOFFSETFROM:+0200
TZOFFSETTO:+0300
TZNAME:EEST
DTSTART:20210328T010000
END:DAYLIGHT
BEGIN:STANDARD
TZOFFSETFROM:+0300
TZOFFSETTO:+0200
TZNAME:EET
DTSTART:20211031T010000
END:STANDARD
BEGIN:DAYLIGHT
TZOFFSETFROM:+0200
TZOFFSETTO:+0300
TZNAME:EEST
DTSTART:20220327T010000
END:DAYLIGHT
BEGIN:STANDARD
TZOFFSETFROM:+0300
TZOFFSETTO:+0200
TZNAME:EET
DTSTART:20221030T010000
END:STANDARD
END:VTIMEZONE
BEGIN:VEVENT
DTSTART;TZID=Europe/Helsinki:20210519T074500
DTEND;TZID=Europe/Helsinki:20210519T161500
DTSTAMP:20260423T084538
CREATED:20210408T120319Z
LAST-MODIFIED:20210408T164546Z
UID:3580-1621410300-1621440900@tyofysioterapeutit.fi
SUMMARY:Työkyvyn tukea levein hartioin – lisää ymmärrystä kuntoutusjärjestelmästä sekä työfysioterapeutin roolista kuntoutuksen ketjussa
DESCRIPTION:Kevätopintopäivä 19.5.2021 \nKoulutus pidetään etänä ja linkki koulutukseen lähetetään osallistujille lähempänä koulutusta. Saat siitä vielä erikseen ilmoituksen. Päivän ohjelma streamataan ja yhdistyksen jäsenillä on mahdollisuus osallistumismaksulla katsoa se 30.6.2021 asti. \nKoulutuspäivän aiheet ovat kovin ajankohtaisia mm. Työfysioterapeutin rooli työkyvyn tukemisessa nyt ja tulevaisuudessa\, Kelan kuntoutusjärjestelmä tutuksi sekä paljon muuta.\nLue koko ohjelma tästä Kevätopintopäivät 2021 \nKoulutuksen yhteydessä pidämme myös Kevätkokouksen Kokouskutsu 2021 (1) \n  \nIlmoittautumiset 7.5.2021 mennessä! Linkki ilmoittautumiseen Ilmoittaudu \n  \nTervetuloa! \nTyöfysioterapeutit ry
URL:https://tyofysioterapeutit.fi/tapahtumakalenteri/kevatopintopaivat-19-5-2021-tyokyvyn-tukea-levein-hartioin-lisaa-ymmarrysta-kuntoutusjarjestelmasta-seka-tyofysioterapeutin-roolista-kuntoutuksen-ketjussa/
CATEGORIES:Koulutus
ATTACH;FMTTYPE=image/jpeg:https://tyofysioterapeutit.fi/wp-content/uploads/2015/09/alue_verkosto.jpg
END:VEVENT
END:VCALENDAR