BEGIN:VCALENDAR
VERSION:2.0
PRODID:-//Työfysioterapeutit Ry - ECPv6.15.20//NONSGML v1.0//EN
CALSCALE:GREGORIAN
METHOD:PUBLISH
X-WR-CALNAME:Työfysioterapeutit Ry
X-ORIGINAL-URL:https://tyofysioterapeutit.fi
X-WR-CALDESC:Tapahtumat Työfysioterapeutit Ry
REFRESH-INTERVAL;VALUE=DURATION:PT1H
X-Robots-Tag:noindex
X-PUBLISHED-TTL:PT1H
BEGIN:VTIMEZONE
TZID:Europe/Helsinki
BEGIN:DAYLIGHT
TZOFFSETFROM:+0200
TZOFFSETTO:+0300
TZNAME:EEST
DTSTART:20200329T010000
END:DAYLIGHT
BEGIN:STANDARD
TZOFFSETFROM:+0300
TZOFFSETTO:+0200
TZNAME:EET
DTSTART:20201025T010000
END:STANDARD
BEGIN:DAYLIGHT
TZOFFSETFROM:+0200
TZOFFSETTO:+0300
TZNAME:EEST
DTSTART:20210328T010000
END:DAYLIGHT
BEGIN:STANDARD
TZOFFSETFROM:+0300
TZOFFSETTO:+0200
TZNAME:EET
DTSTART:20211031T010000
END:STANDARD
BEGIN:DAYLIGHT
TZOFFSETFROM:+0200
TZOFFSETTO:+0300
TZNAME:EEST
DTSTART:20220327T010000
END:DAYLIGHT
BEGIN:STANDARD
TZOFFSETFROM:+0300
TZOFFSETTO:+0200
TZNAME:EET
DTSTART:20221030T010000
END:STANDARD
END:VTIMEZONE
BEGIN:VEVENT
DTSTART;TZID=Europe/Helsinki:20210408T080000
DTEND;TZID=Europe/Helsinki:20210410T170000
DTSTAMP:20260423T111906
CREATED:20200917T095641Z
LAST-MODIFIED:20200917T100408Z
UID:3235-1617868800-1618074000@tyofysioterapeutit.fi
SUMMARY:World Physiotherapy Congress 2021
DESCRIPTION:Maailman fysioterapiajärjestö World Physiotherapy päätti koronaviruspandemian vuoksi siirtää vuoden 2021 maailmankongressin kokonaan verkkoon. Alunperin pitopaikaksi oli valittu Arabiemiraattien Dubai\, jonka ihmisoikeustilanne herätti syksyllä 2019 paljon keskustelua. Suomen Fysioterapeuttien edustajisto linjasi tällöin yksimielisesti\, että liitto ei lähetä kongressiin virallista delegaatiota. Samalla kehotettiin jäsenistöä pohtimaan kriittisesti myös omaa osallistumistaan. \nNyt tilanne on muuttunut. Kongressin järjestäjä on Maailman fysioterapiajärjestö\, eivätkä Arabiemiraatit ole enää sen isäntämaa. Liiton hallitus kävi asiasta keskustelua edustajiston kanssa. Tämän pohjalta tehtiin päätös välittää jäsenistölle viestiä kongressin abstraktihausta muistuttamiseksi. Tarkemmat päätökset esimerkiksi liiton virallisesta osanotosta kongressiin tehdään vasta seuraavassa edustajiston kokouksessa marraskuussa. \nAbstraktien jättöaikaa on muutoksista johtuen pidennetty 24.9. saakka ja kuulijoiden rekisteröityminenkin avataan vasta myöhemmin. Kaikki halukkaat ehtivät siis hyvin vielä mukaan! \nLue lisää: https://congress.physio/2021 \nTiedottaja: www.suomenfysioterapeutit.fi
URL:https://tyofysioterapeutit.fi/tapahtumakalenteri/world-physiotherapy-2021/
CATEGORIES:Koulutus
ATTACH;FMTTYPE=image/jpeg:https://tyofysioterapeutit.fi/wp-content/uploads/2020/09/WPC2021.jpg
END:VEVENT
END:VCALENDAR