BEGIN:VCALENDAR
VERSION:2.0
PRODID:-//Työfysioterapeutit Ry - ECPv6.15.20//NONSGML v1.0//EN
CALSCALE:GREGORIAN
METHOD:PUBLISH
X-WR-CALNAME:Työfysioterapeutit Ry
X-ORIGINAL-URL:https://tyofysioterapeutit.fi
X-WR-CALDESC:Tapahtumat Työfysioterapeutit Ry
REFRESH-INTERVAL;VALUE=DURATION:PT1H
X-Robots-Tag:noindex
X-PUBLISHED-TTL:PT1H
BEGIN:VTIMEZONE
TZID:Europe/Helsinki
BEGIN:DAYLIGHT
TZOFFSETFROM:+0200
TZOFFSETTO:+0300
TZNAME:EEST
DTSTART:20180325T010000
END:DAYLIGHT
BEGIN:STANDARD
TZOFFSETFROM:+0300
TZOFFSETTO:+0200
TZNAME:EET
DTSTART:20181028T010000
END:STANDARD
BEGIN:DAYLIGHT
TZOFFSETFROM:+0200
TZOFFSETTO:+0300
TZNAME:EEST
DTSTART:20190331T010000
END:DAYLIGHT
BEGIN:STANDARD
TZOFFSETFROM:+0300
TZOFFSETTO:+0200
TZNAME:EET
DTSTART:20191027T010000
END:STANDARD
BEGIN:DAYLIGHT
TZOFFSETFROM:+0200
TZOFFSETTO:+0300
TZNAME:EEST
DTSTART:20200329T010000
END:DAYLIGHT
BEGIN:STANDARD
TZOFFSETFROM:+0300
TZOFFSETTO:+0200
TZNAME:EET
DTSTART:20201025T010000
END:STANDARD
END:VTIMEZONE
BEGIN:VEVENT
DTSTART;TZID=Europe/Helsinki:20191114T090000
DTEND;TZID=Europe/Helsinki:20191114T170000
DTSTAMP:20260425T151526
CREATED:20190729T101843Z
LAST-MODIFIED:20190902T081448Z
UID:2892-1573722000-1573750800@tyofysioterapeutit.fi
SUMMARY:TYÖTERVEYSHUOLLON MONIAMMATILLINEN KOULUTUSPÄIVÄ 14.11.2019
DESCRIPTION:Osallistu sinäkin vuoden tärkeimpään ammatilliseen täydennyskoulutukseen ja tule verkostoitumaan ja päivittämään tietosi yhdessä muiden työterveyshuollon ammattiryhmien edustajien kanssa. \nAiheena mm. Moniammatillisuuden haasteet ja mahdollisuudet työterveyshuollossa\, Moniammatilliset työterveyshuollon prosessit\, Työkyvyn johtaminen moniammatillisena toimintana. Lue koko päivän ohjelma tästä: Moniammatillinen koulutuspäivät_14.11.2019_ohjelma  \nIlmoittautuminen: https://www.stthl.fi/ \n  \nTervetuloa kouluttautumaan !
URL:https://tyofysioterapeutit.fi/tapahtumakalenteri/tyoterveyshuollon-moniammatillinen-koulutuspaiva-14-11-2019/
LOCATION:SOKOS HOTEL PRESIDENTTI\, ETELÄINEN RAUTATIENKATU 4\, HELSINKI\, 00100\, Suomi
CATEGORIES:Koulutus
ATTACH;FMTTYPE=image/jpeg:https://tyofysioterapeutit.fi/wp-content/uploads/2015/12/omenat.jpg
END:VEVENT
END:VCALENDAR